BEGIN:VCALENDAR
VERSION:2.0
PRODID:-//UTC Karlstetten - ECPv6.10.3//NONSGML v1.0//EN
CALSCALE:GREGORIAN
METHOD:PUBLISH
X-WR-CALNAME:UTC Karlstetten
X-ORIGINAL-URL:https://www.utc-karlstetten.at
X-WR-CALDESC:Veranstaltungen für UTC Karlstetten
REFRESH-INTERVAL;VALUE=DURATION:PT1H
X-Robots-Tag:noindex
X-PUBLISHED-TTL:PT1H
BEGIN:VTIMEZONE
TZID:Europe/Berlin
BEGIN:DAYLIGHT
TZOFFSETFROM:+0100
TZOFFSETTO:+0200
TZNAME:CEST
DTSTART:20240331T010000
END:DAYLIGHT
BEGIN:STANDARD
TZOFFSETFROM:+0200
TZOFFSETTO:+0100
TZNAME:CET
DTSTART:20241027T010000
END:STANDARD
END:VTIMEZONE
BEGIN:VEVENT
DTSTART;TZID=Europe/Berlin:20240530T090000
DTEND;TZID=Europe/Berlin:20240530T170000
DTSTAMP:20260426T001639
CREATED:20240525T190618Z
LAST-MODIFIED:20240525T190819Z
UID:10000042-1717059600-1717088400@www.utc-karlstetten.at
SUMMARY:DWC - UTC Karlstetten vs UTC Hürm
DESCRIPTION:Die nächste Partie im Dunkelsteinerwald-Cup 2024.\nDer UTC Karlstetten nimmt es zuhause mit dem UTC Hürm auf! \nSei dabei – für Essen und Trinken ist bestens gesorgt!
URL:https://www.utc-karlstetten.at/event/dwc-utc-karlstetten-vs-utc-huerm/
LOCATION:UTC Karlstetten\, Am Hohlweg 20\, Karlstetten\, Niederösterreich\, 3121\, Österreich
CATEGORIES:DWC 24
ATTACH;FMTTYPE=image/jpeg:https://www.utc-karlstetten.at/wp-content/uploads/2024/05/dwc-30-05-24-web.jpg
END:VEVENT
BEGIN:VEVENT
DTSTART;TZID=Europe/Berlin:20240524T160000
DTEND;TZID=Europe/Berlin:20240524T170000
DTSTAMP:20260426T001639
CREATED:20240509T193736Z
LAST-MODIFIED:20240530T151707Z
UID:10000024-1716566400-1716570000@www.utc-karlstetten.at
SUMMARY:Wöchentlicher Tennistreff
DESCRIPTION:
URL:https://www.utc-karlstetten.at/event/woechentlicher-tennistreff/2024-05-24/
LOCATION:UTC Karlstetten\, Am Hohlweg 20\, Karlstetten\, Niederösterreich\, 3121\, Österreich
CATEGORIES:Tennistreff
ATTACH;FMTTYPE=image/png:https://www.utc-karlstetten.at/wp-content/uploads/2024/05/16-Stopwatch.png
END:VEVENT
BEGIN:VEVENT
DTSTART;TZID=Europe/Berlin:20240517T160000
DTEND;TZID=Europe/Berlin:20240517T170000
DTSTAMP:20260426T001639
CREATED:20240509T193736Z
LAST-MODIFIED:20240530T151707Z
UID:10000023-1715961600-1715965200@www.utc-karlstetten.at
SUMMARY:Wöchentlicher Tennistreff
DESCRIPTION:
URL:https://www.utc-karlstetten.at/event/woechentlicher-tennistreff/2024-05-17/
LOCATION:UTC Karlstetten\, Am Hohlweg 20\, Karlstetten\, Niederösterreich\, 3121\, Österreich
CATEGORIES:Tennistreff
ATTACH;FMTTYPE=image/png:https://www.utc-karlstetten.at/wp-content/uploads/2024/05/16-Stopwatch.png
END:VEVENT
BEGIN:VEVENT
DTSTART;TZID=Europe/Berlin:20240510T160000
DTEND;TZID=Europe/Berlin:20240510T170000
DTSTAMP:20260426T001639
CREATED:20240509T193736Z
LAST-MODIFIED:20240530T151707Z
UID:10000022-1715356800-1715360400@www.utc-karlstetten.at
SUMMARY:Wöchentlicher Tennistreff
DESCRIPTION:
URL:https://www.utc-karlstetten.at/event/woechentlicher-tennistreff/2024-05-10/
LOCATION:UTC Karlstetten\, Am Hohlweg 20\, Karlstetten\, Niederösterreich\, 3121\, Österreich
CATEGORIES:Tennistreff
ATTACH;FMTTYPE=image/png:https://www.utc-karlstetten.at/wp-content/uploads/2024/05/16-Stopwatch.png
END:VEVENT
END:VCALENDAR