BEGIN:VCALENDAR
VERSION:2.0
PRODID:-//UTC Karlstetten - ECPv6.10.3//NONSGML v1.0//EN
CALSCALE:GREGORIAN
METHOD:PUBLISH
X-ORIGINAL-URL:https://www.utc-karlstetten.at
X-WR-CALDESC:Veranstaltungen für UTC Karlstetten
REFRESH-INTERVAL;VALUE=DURATION:PT1H
X-Robots-Tag:noindex
X-PUBLISHED-TTL:PT1H
BEGIN:VTIMEZONE
TZID:Europe/Berlin
BEGIN:DAYLIGHT
TZOFFSETFROM:+0100
TZOFFSETTO:+0200
TZNAME:CEST
DTSTART:20240331T010000
END:DAYLIGHT
BEGIN:STANDARD
TZOFFSETFROM:+0200
TZOFFSETTO:+0100
TZNAME:CET
DTSTART:20241027T010000
END:STANDARD
END:VTIMEZONE
BEGIN:VEVENT
DTSTART;TZID=Europe/Berlin:20240621T160000
DTEND;TZID=Europe/Berlin:20240621T170000
DTSTAMP:20260425T223052
CREATED:20240509T193736Z
LAST-MODIFIED:20240530T151707Z
UID:10000028-1718985600-1718989200@www.utc-karlstetten.at
SUMMARY:Wöchentlicher Tennistreff
DESCRIPTION:
URL:https://www.utc-karlstetten.at/event/woechentlicher-tennistreff/2024-06-21/
LOCATION:UTC Karlstetten\, Am Hohlweg 20\, Karlstetten\, Niederösterreich\, 3121\, Österreich
CATEGORIES:Tennistreff
ATTACH;FMTTYPE=image/png:https://www.utc-karlstetten.at/wp-content/uploads/2024/05/16-Stopwatch.png
END:VEVENT
BEGIN:VEVENT
DTSTART;VALUE=DATE:20240616
DTEND;VALUE=DATE:20240617
DTSTAMP:20260425T223052
CREATED:20240530T145801Z
LAST-MODIFIED:20240603T180508Z
UID:10000105-1718496000-1718582399@www.utc-karlstetten.at
SUMMARY:Meisterschaftspartie - UTC Karlstetten 2 vs Tennis Club Preuwitz 2
DESCRIPTION:
URL:https://www.utc-karlstetten.at/event/utc-karlstetten-2-vs-tennis-club-preuwitz-2-2/
LOCATION:UTC Karlstetten\, Am Hohlweg 20\, Karlstetten\, Niederösterreich\, 3121\, Österreich
CATEGORIES:Kreisliga Meisterschaft
ATTACH;FMTTYPE=image/png:https://www.utc-karlstetten.at/wp-content/uploads/2024/05/noetv-turnier.png
END:VEVENT
BEGIN:VEVENT
DTSTART;VALUE=DATE:20240616
DTEND;VALUE=DATE:20240617
DTSTAMP:20260425T223052
CREATED:20240530T144358Z
LAST-MODIFIED:20240530T144722Z
UID:10000047-1718496000-1718582399@www.utc-karlstetten.at
SUMMARY:Meisterschaftspartie - TV Maria Anzbach 2 vs UTC Karlstetten 1
DESCRIPTION:
URL:https://www.utc-karlstetten.at/event/meisterschaftspartie-tv-maria-anzbach-2-vs-utc-karlstetten-1/
LOCATION:TV Maria Anzbach\, Österreich
CATEGORIES:Kreisliga Meisterschaft
ATTACH;FMTTYPE=image/webp:https://www.utc-karlstetten.at/wp-content/uploads/2024/05/noetv-turnier.webp
END:VEVENT
BEGIN:VEVENT
DTSTART;TZID=Europe/Berlin:20240614T160000
DTEND;TZID=Europe/Berlin:20240614T170000
DTSTAMP:20260425T223052
CREATED:20240509T193736Z
LAST-MODIFIED:20240530T151707Z
UID:10000027-1718380800-1718384400@www.utc-karlstetten.at
SUMMARY:Wöchentlicher Tennistreff
DESCRIPTION:
URL:https://www.utc-karlstetten.at/event/woechentlicher-tennistreff/2024-06-14/
LOCATION:UTC Karlstetten\, Am Hohlweg 20\, Karlstetten\, Niederösterreich\, 3121\, Österreich
CATEGORIES:Tennistreff
ATTACH;FMTTYPE=image/png:https://www.utc-karlstetten.at/wp-content/uploads/2024/05/16-Stopwatch.png
END:VEVENT
BEGIN:VEVENT
DTSTART;TZID=Europe/Berlin:20240612T170000
DTEND;TZID=Europe/Berlin:20240612T200000
DTSTAMP:20260425T223052
CREATED:20240604T200422Z
LAST-MODIFIED:20240604T200508Z
UID:10000108-1718211600-1718222400@www.utc-karlstetten.at
SUMMARY:U10 Meisterschaft UTC Karlstetten vs TC Tulln
DESCRIPTION:
URL:https://www.utc-karlstetten.at/event/u10-meisterschaft-utc-karlstetten-vs-tc-tulln/
LOCATION:UTC Karlstetten\, Am Hohlweg 20\, Karlstetten\, Niederösterreich\, 3121\, Österreich
CATEGORIES:Meisterschaften,U10 Meisterschaft
ATTACH;FMTTYPE=image/png:https://www.utc-karlstetten.at/wp-content/uploads/2024/05/noetv-turnier.png
END:VEVENT
BEGIN:VEVENT
DTSTART;VALUE=DATE:20240609
DTEND;VALUE=DATE:20240610
DTSTAMP:20260425T223052
CREATED:20240530T145640Z
LAST-MODIFIED:20240603T180542Z
UID:10000104-1717891200-1717977599@www.utc-karlstetten.at
SUMMARY:Meisterschaftspartie - TC Sitzenberg-Reidling 2 vs UTC Karlstetten 2
DESCRIPTION:
URL:https://www.utc-karlstetten.at/event/tc-sitzenberg-reidling-2-vs-utc-karlstetten-2/
LOCATION:TC Sitzenberg-Reidling 2\, Österreich
CATEGORIES:Kreisliga Meisterschaft
ATTACH;FMTTYPE=image/png:https://www.utc-karlstetten.at/wp-content/uploads/2024/05/noetv-turnier.png
END:VEVENT
BEGIN:VEVENT
DTSTART;VALUE=DATE:20240609
DTEND;VALUE=DATE:20240610
DTSTAMP:20260425T223052
CREATED:20240530T144300Z
LAST-MODIFIED:20240530T144449Z
UID:10000046-1717891200-1717977599@www.utc-karlstetten.at
SUMMARY:Meisterschaftspartie - UTC Karlstetten 1 vs UTC Königstetten 1
DESCRIPTION:
URL:https://www.utc-karlstetten.at/event/meisterschaftspartie-utc-karlstetten-1-vs-utc-koenigstetten-1/
LOCATION:UTC Karlstetten\, Am Hohlweg 20\, Karlstetten\, Niederösterreich\, 3121\, Österreich
CATEGORIES:Kreisliga Meisterschaft
ATTACH;FMTTYPE=image/webp:https://www.utc-karlstetten.at/wp-content/uploads/2024/05/noetv-turnier.webp
END:VEVENT
BEGIN:VEVENT
DTSTART;TZID=Europe/Berlin:20240607T160000
DTEND;TZID=Europe/Berlin:20240607T170000
DTSTAMP:20260425T223052
CREATED:20240509T193736Z
LAST-MODIFIED:20240530T151707Z
UID:10000026-1717776000-1717779600@www.utc-karlstetten.at
SUMMARY:Wöchentlicher Tennistreff
DESCRIPTION:
URL:https://www.utc-karlstetten.at/event/woechentlicher-tennistreff/2024-06-07/
LOCATION:UTC Karlstetten\, Am Hohlweg 20\, Karlstetten\, Niederösterreich\, 3121\, Österreich
CATEGORIES:Tennistreff
ATTACH;FMTTYPE=image/png:https://www.utc-karlstetten.at/wp-content/uploads/2024/05/16-Stopwatch.png
END:VEVENT
BEGIN:VEVENT
DTSTART;TZID=Europe/Berlin:20240604T080000
DTEND;TZID=Europe/Berlin:20240604T170000
DTSTAMP:20260425T223052
CREATED:20240604T200751Z
LAST-MODIFIED:20240604T200751Z
UID:10000109-1717488000-1717520400@www.utc-karlstetten.at
SUMMARY:U10 Meisterschaft - ESV Obergrafendorf vs UTC Karlstetten
DESCRIPTION:
URL:https://www.utc-karlstetten.at/event/u10-meisterschaft-esv-obergrafendorf-vs-utc-karlstetten/
LOCATION:ESV Obergrafendorf\, Österreich
CATEGORIES:Meisterschaften,U10 Meisterschaft
ATTACH;FMTTYPE=image/png:https://www.utc-karlstetten.at/wp-content/uploads/2024/05/noetv-turnier.png
END:VEVENT
BEGIN:VEVENT
DTSTART;VALUE=DATE:20240602
DTEND;VALUE=DATE:20240603
DTSTAMP:20260425T223052
CREATED:20240530T150120Z
LAST-MODIFIED:20240530T152124Z
UID:10000107-1717286400-1717372799@www.utc-karlstetten.at
SUMMARY:Meisterschaftspartie - UTC Karlstetten 2 vs TC Harland 4
DESCRIPTION:
URL:https://www.utc-karlstetten.at/event/utc-karlstetten-2-vs-tc-harland-4/
LOCATION:UTC Karlstetten\, Am Hohlweg 20\, Karlstetten\, Niederösterreich\, 3121\, Österreich
CATEGORIES:Kreisliga Meisterschaft
ATTACH;FMTTYPE=image/png:https://www.utc-karlstetten.at/wp-content/uploads/2024/05/noetv-turnier.png
END:VEVENT
BEGIN:VEVENT
DTSTART;VALUE=DATE:20240602
DTEND;VALUE=DATE:20240603
DTSTAMP:20260425T223052
CREATED:20240530T144811Z
LAST-MODIFIED:20240530T144812Z
UID:10000045-1717286400-1717372799@www.utc-karlstetten.at
SUMMARY:Meisterschaftspartie - TTK Türnitz 1 vs UTC Karlstetten 1
DESCRIPTION:
URL:https://www.utc-karlstetten.at/event/meisterschaftspartie-ttk-tuernitz-1-vs-utc-karlstetten-1-2/
LOCATION:TTK Türnitz\, Österreich
CATEGORIES:Kreisliga Meisterschaft
ATTACH;FMTTYPE=image/webp:https://www.utc-karlstetten.at/wp-content/uploads/2024/05/noetv-turnier.webp
END:VEVENT
BEGIN:VEVENT
DTSTART;TZID=Europe/Berlin:20240531T160000
DTEND;TZID=Europe/Berlin:20240531T170000
DTSTAMP:20260425T223052
CREATED:20240509T193736Z
LAST-MODIFIED:20240530T151707Z
UID:10000025-1717171200-1717174800@www.utc-karlstetten.at
SUMMARY:Wöchentlicher Tennistreff
DESCRIPTION:
URL:https://www.utc-karlstetten.at/event/woechentlicher-tennistreff/2024-05-31/
LOCATION:UTC Karlstetten\, Am Hohlweg 20\, Karlstetten\, Niederösterreich\, 3121\, Österreich
CATEGORIES:Tennistreff
ATTACH;FMTTYPE=image/png:https://www.utc-karlstetten.at/wp-content/uploads/2024/05/16-Stopwatch.png
END:VEVENT
BEGIN:VEVENT
DTSTART;TZID=Europe/Berlin:20240530T090000
DTEND;TZID=Europe/Berlin:20240530T170000
DTSTAMP:20260425T223052
CREATED:20240525T190618Z
LAST-MODIFIED:20240525T190819Z
UID:10000042-1717059600-1717088400@www.utc-karlstetten.at
SUMMARY:DWC - UTC Karlstetten vs UTC Hürm
DESCRIPTION:Die nächste Partie im Dunkelsteinerwald-Cup 2024.\nDer UTC Karlstetten nimmt es zuhause mit dem UTC Hürm auf! \nSei dabei – für Essen und Trinken ist bestens gesorgt!
URL:https://www.utc-karlstetten.at/event/dwc-utc-karlstetten-vs-utc-huerm/
LOCATION:UTC Karlstetten\, Am Hohlweg 20\, Karlstetten\, Niederösterreich\, 3121\, Österreich
CATEGORIES:DWC 24
ATTACH;FMTTYPE=image/jpeg:https://www.utc-karlstetten.at/wp-content/uploads/2024/05/dwc-30-05-24-web.jpg
END:VEVENT
BEGIN:VEVENT
DTSTART;TZID=Europe/Berlin:20240524T160000
DTEND;TZID=Europe/Berlin:20240524T170000
DTSTAMP:20260425T223052
CREATED:20240509T193736Z
LAST-MODIFIED:20240530T151707Z
UID:10000024-1716566400-1716570000@www.utc-karlstetten.at
SUMMARY:Wöchentlicher Tennistreff
DESCRIPTION:
URL:https://www.utc-karlstetten.at/event/woechentlicher-tennistreff/2024-05-24/
LOCATION:UTC Karlstetten\, Am Hohlweg 20\, Karlstetten\, Niederösterreich\, 3121\, Österreich
CATEGORIES:Tennistreff
ATTACH;FMTTYPE=image/png:https://www.utc-karlstetten.at/wp-content/uploads/2024/05/16-Stopwatch.png
END:VEVENT
BEGIN:VEVENT
DTSTART;TZID=Europe/Berlin:20240517T160000
DTEND;TZID=Europe/Berlin:20240517T170000
DTSTAMP:20260425T223052
CREATED:20240509T193736Z
LAST-MODIFIED:20240530T151707Z
UID:10000023-1715961600-1715965200@www.utc-karlstetten.at
SUMMARY:Wöchentlicher Tennistreff
DESCRIPTION:
URL:https://www.utc-karlstetten.at/event/woechentlicher-tennistreff/2024-05-17/
LOCATION:UTC Karlstetten\, Am Hohlweg 20\, Karlstetten\, Niederösterreich\, 3121\, Österreich
CATEGORIES:Tennistreff
ATTACH;FMTTYPE=image/png:https://www.utc-karlstetten.at/wp-content/uploads/2024/05/16-Stopwatch.png
END:VEVENT
BEGIN:VEVENT
DTSTART;TZID=Europe/Berlin:20240510T160000
DTEND;TZID=Europe/Berlin:20240510T170000
DTSTAMP:20260425T223052
CREATED:20240509T193736Z
LAST-MODIFIED:20240530T151707Z
UID:10000022-1715356800-1715360400@www.utc-karlstetten.at
SUMMARY:Wöchentlicher Tennistreff
DESCRIPTION:
URL:https://www.utc-karlstetten.at/event/woechentlicher-tennistreff/2024-05-10/
LOCATION:UTC Karlstetten\, Am Hohlweg 20\, Karlstetten\, Niederösterreich\, 3121\, Österreich
CATEGORIES:Tennistreff
ATTACH;FMTTYPE=image/png:https://www.utc-karlstetten.at/wp-content/uploads/2024/05/16-Stopwatch.png
END:VEVENT
END:VCALENDAR