BEGIN:VCALENDAR
VERSION:2.0
PRODID:-//UTC Karlstetten - ECPv6.10.3//NONSGML v1.0//EN
CALSCALE:GREGORIAN
METHOD:PUBLISH
X-WR-CALNAME:UTC Karlstetten
X-ORIGINAL-URL:https://www.utc-karlstetten.at
X-WR-CALDESC:Veranstaltungen für UTC Karlstetten
REFRESH-INTERVAL;VALUE=DURATION:PT1H
X-Robots-Tag:noindex
X-PUBLISHED-TTL:PT1H
BEGIN:VTIMEZONE
TZID:Europe/Helsinki
BEGIN:DAYLIGHT
TZOFFSETFROM:+0200
TZOFFSETTO:+0300
TZNAME:EEST
DTSTART:20260329T010000
END:DAYLIGHT
BEGIN:STANDARD
TZOFFSETFROM:+0300
TZOFFSETTO:+0200
TZNAME:EET
DTSTART:20261025T010000
END:STANDARD
END:VTIMEZONE
BEGIN:VTIMEZONE
TZID:Europe/Berlin
BEGIN:DAYLIGHT
TZOFFSETFROM:+0100
TZOFFSETTO:+0200
TZNAME:CEST
DTSTART:20260329T010000
END:DAYLIGHT
BEGIN:STANDARD
TZOFFSETFROM:+0200
TZOFFSETTO:+0100
TZNAME:CET
DTSTART:20261025T010000
END:STANDARD
END:VTIMEZONE
BEGIN:VEVENT
DTSTART;TZID=Europe/Helsinki:20260706T080000
DTEND;TZID=Europe/Helsinki:20260711T120000
DTSTAMP:20260425T124712
CREATED:20260424T181602Z
LAST-MODIFIED:20260424T181602Z
UID:10000140-1783324800-1783771200@www.utc-karlstetten.at
SUMMARY:Sommer Kindercamp Juli mit Rado
DESCRIPTION:
URL:https://www.utc-karlstetten.at/event/sommer-kindercamp-juli-mit-rado/
LOCATION:UTC Karlstetten\, Am Hohlweg 20\, Karlstetten\, Niederösterreich\, 3121\, Österreich
CATEGORIES:Rado Kindercamps,Tenniscamps
ATTACH;FMTTYPE=image/jpeg:https://www.utc-karlstetten.at/wp-content/uploads/2021/02/parallax-6.jpg
END:VEVENT
BEGIN:VEVENT
DTSTART;TZID=Europe/Berlin:20260706T180000
DTEND;TZID=Europe/Berlin:20260710T200000
DTSTAMP:20260425T124712
CREATED:20260424T182007Z
LAST-MODIFIED:20260424T182007Z
UID:10000141-1783360800-1783713600@www.utc-karlstetten.at
SUMMARY:Sommer Erwachsenencamp im Juli mit Rado
DESCRIPTION:
URL:https://www.utc-karlstetten.at/event/sommer-erwachsenencamp-im-juli-mit-rado-2/
LOCATION:UTC Karlstetten\, Am Hohlweg 20\, Karlstetten\, Niederösterreich\, 3121\, Österreich
CATEGORIES:Rado Erwachsenencamps,Tenniscamps
ATTACH;FMTTYPE=image/jpeg:https://www.utc-karlstetten.at/wp-content/uploads/2024/05/baelle-training-klein.jpg
END:VEVENT
BEGIN:VEVENT
DTSTART;VALUE=DATE:20260807
DTEND;VALUE=DATE:20260810
DTSTAMP:20260425T124712
CREATED:20260424T182432Z
LAST-MODIFIED:20260424T182432Z
UID:10000144-1786060800-1786319999@www.utc-karlstetten.at
SUMMARY:Wiesenfest Open 2026
DESCRIPTION:
URL:https://www.utc-karlstetten.at/event/wiesenfest-open-2026/
LOCATION:UTC Karlstetten\, Am Hohlweg 20\, Karlstetten\, Niederösterreich\, 3121\, Österreich
CATEGORIES:Wiesenfest
ATTACH;FMTTYPE=image/jpeg:https://www.utc-karlstetten.at/wp-content/uploads/2024/05/utc-karlstetten-titelbild-alle-mitglieder.jpg
END:VEVENT
BEGIN:VEVENT
DTSTART;TZID=Europe/Helsinki:20260831T080000
DTEND;TZID=Europe/Helsinki:20260904T120000
DTSTAMP:20260425T124712
CREATED:20260424T182121Z
LAST-MODIFIED:20260424T182121Z
UID:10000142-1788163200-1788523200@www.utc-karlstetten.at
SUMMARY:Sommer Kindercamp August mit Rado
DESCRIPTION:
URL:https://www.utc-karlstetten.at/event/sommer-kindercamp-august-mit-rado/
LOCATION:UTC Karlstetten\, Am Hohlweg 20\, Karlstetten\, Niederösterreich\, 3121\, Österreich
CATEGORIES:Rado Kindercamps,Tenniscamps
ATTACH;FMTTYPE=image/jpeg:https://www.utc-karlstetten.at/wp-content/uploads/2021/02/parallax-6.jpg
END:VEVENT
BEGIN:VEVENT
DTSTART;TZID=Europe/Berlin:20260831T180000
DTEND;TZID=Europe/Berlin:20260903T200000
DTSTAMP:20260425T124712
CREATED:20260424T182301Z
LAST-MODIFIED:20260424T182301Z
UID:10000143-1788199200-1788465600@www.utc-karlstetten.at
SUMMARY:Sommer Erwachsenencamp im August mit Rado
DESCRIPTION:
URL:https://www.utc-karlstetten.at/event/sommer-erwachsenencamp-im-august-mit-rado/
LOCATION:UTC Karlstetten\, Am Hohlweg 20\, Karlstetten\, Niederösterreich\, 3121\, Österreich
CATEGORIES:Rado Erwachsenencamps,Tenniscamps
ATTACH;FMTTYPE=image/jpeg:https://www.utc-karlstetten.at/wp-content/uploads/2024/05/baelle-training-klein.jpg
END:VEVENT
END:VCALENDAR